BEGIN:VCALENDAR
PRODID:Partyamt DarmstadtVERSION:2.0
X-WR-CALNAME:Partyamt DarmstadtUID:190006@partyamt.deX-WR-TIMEZONE:Europe/Berlin
CALSCALE:GREGORIAN
METHOD:PUBLISH
BEGIN:VEVENT
SUMMARY:Lesung: Olav Garz
DTSTART:20260421T190000
DTEND;VALUE=DATE:20260421T210000
LOCATION:Hotel Rosengarten Darmstadt 
DESCRIPTION:www.partyamt.de/index.php?action=single&id=190006
END:VEVENT
END:VCALENDAR