BEGIN:VCALENDAR
PRODID:Partyamt DarmstadtVERSION:2.0
X-WR-CALNAME:Partyamt DarmstadtUID:190630@partyamt.deX-WR-TIMEZONE:Europe/Berlin
CALSCALE:GREGORIAN
METHOD:PUBLISH
BEGIN:VEVENT
SUMMARY:Neuanfang: Jutta Janzen und Tamara Krappmann lesen
DTSTART:20260529T190000
DTEND;VALUE=DATE:20260529T210000
LOCATION:Altes Rathaus Traisa
DESCRIPTION:www.partyamt.de/index.php?action=single&id=190630
END:VEVENT
END:VCALENDAR