BEGIN:VCALENDAR
PRODID:Partyamt DarmstadtVERSION:2.0
X-WR-CALNAME:Partyamt DarmstadtUID:190721@partyamt.deX-WR-TIMEZONE:Europe/Berlin
CALSCALE:GREGORIAN
METHOD:PUBLISH
BEGIN:VEVENT
SUMMARY:Steinbruch Metal Battle (2 Floors) mit DJ Doom, Dj
DTSTART:20260516T220000
DTEND;VALUE=DATE:20260517T000000
LOCATION:Steinbruch-Theater MÃ¼hltal
DESCRIPTION:www.partyamt.de/index.php?action=single&id=190721
END:VEVENT
END:VCALENDAR