BEGIN:VCALENDAR
PRODID:Partyamt DarmstadtVERSION:2.0
X-WR-CALNAME:Partyamt DarmstadtUID:190725@partyamt.deX-WR-TIMEZONE:Europe/Berlin
CALSCALE:GREGORIAN
METHOD:PUBLISH
BEGIN:VEVENT
SUMMARY:Vintage Biker's Edition mit DJ Skull
DTSTART:20260526T200000
DTEND;VALUE=DATE:20260526T220000
LOCATION:Steinbruch-Theater MÃ¼hltal
DESCRIPTION:www.partyamt.de/index.php?action=single&id=190725
END:VEVENT
END:VCALENDAR