BEGIN:VCALENDAR
PRODID:Partyamt DarmstadtVERSION:2.0
X-WR-CALNAME:Partyamt DarmstadtUID:190741@partyamt.deX-WR-TIMEZONE:Europe/Berlin
CALSCALE:GREGORIAN
METHOD:PUBLISH
BEGIN:VEVENT
SUMMARY:vectors jazz quartet beim art photo salon
DTSTART:20260418T200000
DTEND;VALUE=DATE:20260418T220000
LOCATION:Designhaus MathildenhÃ¶he DA
DESCRIPTION:www.partyamt.de/index.php?action=single&id=190741
END:VEVENT
END:VCALENDAR