BEGIN:VCALENDAR
PRODID:Partyamt DarmstadtVERSION:2.0
X-WR-CALNAME:Partyamt DarmstadtUID:190743@partyamt.deX-WR-TIMEZONE:Europe/Berlin
CALSCALE:GREGORIAN
METHOD:PUBLISH
BEGIN:VEVENT
SUMMARY:a cup of art - tea + coffee im art photo salon
DTSTART:20260419T110000
DTEND;VALUE=DATE:20260419T130000
LOCATION:Designhaus MathildenhÃ¶he DA
DESCRIPTION:www.partyamt.de/index.php?action=single&id=190743
END:VEVENT
END:VCALENDAR