BEGIN:VCALENDAR
PRODID:Partyamt DarmstadtVERSION:2.0
X-WR-CALNAME:Partyamt DarmstadtUID:190746@partyamt.deX-WR-TIMEZONE:Europe/Berlin
CALSCALE:GREGORIAN
METHOD:PUBLISH
BEGIN:VEVENT
SUMMARY:Tanz in den Mai - DiscoHouse Party
DTSTART:20260430T200000
DTEND;VALUE=DATE:20260430T220000
LOCATION:Das Roeders
DESCRIPTION:www.partyamt.de/index.php?action=single&id=190746
END:VEVENT
END:VCALENDAR