BEGIN:VCALENDAR
PRODID:Partyamt DarmstadtVERSION:2.0
X-WR-CALNAME:Partyamt DarmstadtUID:190834@partyamt.deX-WR-TIMEZONE:Europe/Berlin
CALSCALE:GREGORIAN
METHOD:PUBLISH
BEGIN:VEVENT
SUMMARY:Artists around you Kunstmarkt 
DTSTART:20260425T170000
DTEND;VALUE=DATE:20260425T190000
LOCATION:Kafi Cafe
DESCRIPTION:www.partyamt.de/index.php?action=single&id=190834
END:VEVENT
END:VCALENDAR