BEGIN:VCALENDAR
PRODID:Partyamt DarmstadtVERSION:2.0
X-WR-CALNAME:Partyamt DarmstadtUID:190869@partyamt.deX-WR-TIMEZONE:Europe/Berlin
CALSCALE:GREGORIAN
METHOD:PUBLISH
BEGIN:VEVENT
SUMMARY:Birdlore
DTSTART:20260425T190000
DTEND;VALUE=DATE:20260425T210000
LOCATION:Struppi, Landwehrstr. 24a
DESCRIPTION:www.partyamt.de/index.php?action=single&id=190869
END:VEVENT
END:VCALENDAR