BEGIN:VCALENDAR
PRODID:Partyamt DarmstadtVERSION:2.0
X-WR-CALNAME:Partyamt DarmstadtUID:190884@partyamt.deX-WR-TIMEZONE:Europe/Berlin
CALSCALE:GREGORIAN
METHOD:PUBLISH
BEGIN:VEVENT
SUMMARY:4-Stunden Ayct
DTSTART:20260501T140000
DTEND;VALUE=DATE:20260501T160000
LOCATION:Lasertag Darmstadt
DESCRIPTION:www.partyamt.de/index.php?action=single&id=190884
END:VEVENT
END:VCALENDAR