BEGIN:VCALENDAR
PRODID:Partyamt DarmstadtVERSION:2.0
X-WR-CALNAME:Partyamt DarmstadtUID:190890@partyamt.deX-WR-TIMEZONE:Europe/Berlin
CALSCALE:GREGORIAN
METHOD:PUBLISH
BEGIN:VEVENT
SUMMARY:N17 : House Classix mit 3 DJs
DTSTART:20260425T190000
DTEND;VALUE=DATE:20260425T210000
LOCATION:N17 Event Lounge, Griesheim
DESCRIPTION:www.partyamt.de/index.php?action=single&id=190890
END:VEVENT
END:VCALENDAR