BEGIN:VCALENDAR
PRODID:Partyamt DarmstadtVERSION:2.0
X-WR-CALNAME:Partyamt DarmstadtUID:190893@partyamt.deX-WR-TIMEZONE:Europe/Berlin
CALSCALE:GREGORIAN
METHOD:PUBLISH
BEGIN:VEVENT
SUMMARY:La Gran Fiesta? Latinparty? Tanzen in den Mai 
DTSTART:20260430T200000
DTEND;VALUE=DATE:20260430T220000
LOCATION:Salon-Latino 
DESCRIPTION:www.partyamt.de/index.php?action=single&id=190893
END:VEVENT
END:VCALENDAR