BEGIN:VCALENDAR
PRODID:Partyamt DarmstadtVERSION:2.0
X-WR-CALNAME:Partyamt DarmstadtUID:190897@partyamt.deX-WR-TIMEZONE:Europe/Berlin
CALSCALE:GREGORIAN
METHOD:PUBLISH
BEGIN:VEVENT
SUMMARY:Tanz in den Mai mit Livemusik 
DTSTART:20260430T190000
DTEND;VALUE=DATE:20260430T210000
LOCATION:DÃ¦dis 
DESCRIPTION:www.partyamt.de/index.php?action=single&id=190897
END:VEVENT
END:VCALENDAR